BEGIN:VCALENDAR
VERSION:2.0
PRODID:-//Stegen - ECPv6.9.0//NONSGML v1.0//EN
CALSCALE:GREGORIAN
METHOD:PUBLISH
X-ORIGINAL-URL:https://tastegen.se
X-WR-CALDESC:Events for Stegen
REFRESH-INTERVAL;VALUE=DURATION:PT1H
X-Robots-Tag:noindex
X-PUBLISHED-TTL:PT1H
BEGIN:VTIMEZONE
TZID:Europe/Helsinki
BEGIN:DAYLIGHT
TZOFFSETFROM:+0200
TZOFFSETTO:+0300
TZNAME:EEST
DTSTART:20250330T010000
END:DAYLIGHT
BEGIN:STANDARD
TZOFFSETFROM:+0300
TZOFFSETTO:+0200
TZNAME:EET
DTSTART:20251026T010000
END:STANDARD
END:VTIMEZONE
BEGIN:VEVENT
DTSTART;TZID=Europe/Helsinki:20251113T090000
DTEND;TZID=Europe/Helsinki:20251113T120000
DTSTAMP:20260426T033339
CREATED:20250829T120253Z
LAST-MODIFIED:20250829T120253Z
UID:2974-1763024400-1763035200@tastegen.se
SUMMARY:MIljö- och hållbarhetskunskap
DESCRIPTION:Fem steg som gör dig miljö- och hållbarhetsklokare\nUtbildningen är en grundläggande hållbarhetsutbildning som ger en översikt över utmaningarna och de möjligheter vi har att göra något åt dem både som privatperson och företag. \nUtbildningen passar bland annat för er som arbetar med Svensk Miljöbas\, Standard för systematiskt hållbarhetsarbete eller ISO 14 001 och har behov att höja miljö- och hållbarhetskompetensen och engagemanget i organisationen. \nUtbildningen är uppdelad i fem steg:\n1. SYSTEMET – hur nationella och globala överenskommelser påverkar dig och ditt arbetet\n2. RUMMET – naturens och människors förutsättningar\, gränser och utmaningar i stort.\n3. RESAN – visar förändringar över tid\, positiva såväl som negativa.\n4. PRAKTIKEN – vad du kan göra\, både hemma och på arbetet.\n5. AVSLUTNINGEN – summerar innehållet i utbildningen \nPris och betalningsvillkor\nPris: 2 500 kr/person\nStegens befintliga diplomeringskunder: 2 250 kr/person \nEarly bird: 10 % om ni bokar innan den 5 september 2025. \nSamtliga priser är exklusive moms. \nAvanmälan möjlig till och med tre dagar innan utbildningstillfället. Utebliven deltagare debiteras enligt ovanstående priser. Utbildningsplats får överlåtas. \nAnmäl dig till Annika Johansson:\nannika.johansson(a)tastegen.se \nVill du hellre ha en företagsanpassad utbildning?\nVänligen kontakta Annika Johansson:\nannika.johansson(a)tastegen.se
URL:https://tastegen.se/event/miljo-och-hallbarhetskunskap/
LOCATION:Stegen\, Drakenbergsgatan 27\, Stockholm\, 117 41\, Sverige
CATEGORIES:Live på plats
ATTACH;FMTTYPE=image/png:https://tastegen.se/wp-content/uploads/2025/02/Hallbar-utveckling-bilder-hemsida-GM.png
END:VEVENT
END:VCALENDAR