BEGIN:VCALENDAR
VERSION:2.0
PRODID:-//Stegen - ECPv6.9.0//NONSGML v1.0//EN
CALSCALE:GREGORIAN
METHOD:PUBLISH
X-ORIGINAL-URL:https://tastegen.se
X-WR-CALDESC:Events for Stegen
REFRESH-INTERVAL;VALUE=DURATION:PT1H
X-Robots-Tag:noindex
X-PUBLISHED-TTL:PT1H
BEGIN:VTIMEZONE
TZID:Europe/Helsinki
BEGIN:DAYLIGHT
TZOFFSETFROM:+0200
TZOFFSETTO:+0300
TZNAME:EEST
DTSTART:20260329T010000
END:DAYLIGHT
BEGIN:STANDARD
TZOFFSETFROM:+0300
TZOFFSETTO:+0200
TZNAME:EET
DTSTART:20261025T010000
END:STANDARD
END:VTIMEZONE
BEGIN:VEVENT
DTSTART;TZID=Europe/Helsinki:20260128T130000
DTEND;TZID=Europe/Helsinki:20260128T150000
DTSTAMP:20260425T222634
CREATED:20251016T083538Z
LAST-MODIFIED:20251016T083538Z
UID:3004-1769605200-1769612400@tastegen.se
SUMMARY:Upptaktsutbildning i Kartläggning och analys
DESCRIPTION:Stegen bjuder in till Upptaktsutbildning i hur ni kan arbeta med kartläggning och analys enligt Svensk Miljöbas och Svensk Kvalitetsbas. \nUtbildningen sker via Teams. \nUtbildningen innehåller:\n\nVad är ledningssystem\nMätning och mätpunkter\nVärdekedja och processer\nIntressenter\nSWOT\nAspekter\n\nMålgrupp: Organisationer som arbetat med Svensk Miljöbas & Svensk Kvalitetsbas med hjälp av Stegen \nPris: Ingår i grundavgiften \nAnmäl er till: Annika Johansson\, annika.johansson(a)tastegen.se
URL:https://tastegen.se/event/upptaktsutbildning-i-kartlaggning-och-analys-2/
LOCATION:Digitalt
CATEGORIES:Live - digitalt
ATTACH;FMTTYPE=image/png:https://tastegen.se/wp-content/uploads/2024/05/Analys.png
END:VEVENT
END:VCALENDAR