BEGIN:VCALENDAR
VERSION:2.0
PRODID:-//Stegen - ECPv6.9.0//NONSGML v1.0//EN
CALSCALE:GREGORIAN
METHOD:PUBLISH
X-WR-CALNAME:Stegen
X-ORIGINAL-URL:https://tastegen.se
X-WR-CALDESC:Events for Stegen
REFRESH-INTERVAL;VALUE=DURATION:PT1H
X-Robots-Tag:noindex
X-PUBLISHED-TTL:PT1H
BEGIN:VTIMEZONE
TZID:Europe/Helsinki
BEGIN:DAYLIGHT
TZOFFSETFROM:+0200
TZOFFSETTO:+0300
TZNAME:EEST
DTSTART:20260329T010000
END:DAYLIGHT
BEGIN:STANDARD
TZOFFSETFROM:+0300
TZOFFSETTO:+0200
TZNAME:EET
DTSTART:20261025T010000
END:STANDARD
END:VTIMEZONE
BEGIN:VEVENT
DTSTART;TZID=Europe/Helsinki:20260210T100000
DTEND;TZID=Europe/Helsinki:20260210T160000
DTSTAMP:20260425T222516
CREATED:20251023T104738Z
LAST-MODIFIED:20260116T075715Z
UID:3015-1770717600-1770739200@tastegen.se
SUMMARY:Vad är väsentligt – värdekedja\, analys och aspekter
DESCRIPTION:Syftet med workshoputbildningen är att ge ansvariga praktiska verktyg att ta fram sin värdekedja\, analysera intressenter\, risker och möjligheter samt värdera sina aspekter. \nUtbildningen berör\n\n\n\nSystematiskt hållbarhetsarbete\, miljöarbete & kvalitetsarbete\nAnalys av organisationens förutsättningar\nVärdekedja\nAnalys av:\n\nIntressenter – krav och förväntningar\nRisker och möjligheter i värdekedjan\nAnalys och bedömning av aspekter\n\n\n\n\n\nWorkshoputbildningen varvar teori med praktiska övningar. \nDet är en öppen utbildning som sker live på Stegen \nPris och betalningsvillkor\nStegens diplomeringskunder: 6 200 kr/person\nEj befintliga diplomeringskunder: 6 900 kr/person \nEary bird: 10 % om ni bokar innan den 15 december 2025. \nSamtliga priser är exklusive moms. \nAvanmälan möjlig till och med fem dagar innan utbildningstillfället. Utebliven deltagare debiteras enligt ovanstående priser. Utbildningsplats får överlåtas. \nAnmäl dig till Annika Johansson:\nannika.johansson@tastegen.se \nVill du hellre ha en företagsanpassad utbildning?\nVänligen kontakta Annika Johansson:\nannika.johansson@tastegen.se
URL:https://tastegen.se/event/vad-ar-vasentligt-vardekedja-analys-och-hallbarhetsaspekter-2/
LOCATION:Drakenbergsgatan 27 Stockholm\, 117 41 Sverige\, Drakenbergsgatan 27\, Stockholm\, 117 41\, Sverige
CATEGORIES:Live på plats
ATTACH;FMTTYPE=image/png:https://tastegen.se/wp-content/uploads/2024/05/Analys.png
END:VEVENT
END:VCALENDAR