BEGIN:VCALENDAR
VERSION:2.0
PRODID:-//Stegen - ECPv6.9.0//NONSGML v1.0//EN
CALSCALE:GREGORIAN
METHOD:PUBLISH
X-WR-CALNAME:Stegen
X-ORIGINAL-URL:https://tastegen.se
X-WR-CALDESC:Events for Stegen
REFRESH-INTERVAL;VALUE=DURATION:PT1H
X-Robots-Tag:noindex
X-PUBLISHED-TTL:PT1H
BEGIN:VTIMEZONE
TZID:Europe/Helsinki
BEGIN:DAYLIGHT
TZOFFSETFROM:+0200
TZOFFSETTO:+0300
TZNAME:EEST
DTSTART:20220327T010000
END:DAYLIGHT
BEGIN:STANDARD
TZOFFSETFROM:+0300
TZOFFSETTO:+0200
TZNAME:EET
DTSTART:20221030T010000
END:STANDARD
END:VTIMEZONE
BEGIN:VEVENT
DTSTART;TZID=Europe/Helsinki:20221004T100000
DTEND;TZID=Europe/Helsinki:20221004T160000
DTSTAMP:20260426T063908
CREATED:20220111T162750Z
LAST-MODIFIED:20220816T132300Z
UID:620-1664877600-1664899200@tastegen.se
SUMMARY:Grundkurs för miljöansvariga\, live digitalt
DESCRIPTION:Grundkurs för miljöansvariga\nSyftet med utbildningen Grundkurs för miljöansvariga är att ge miljöansvariga grunderna i miljölagstiftningen\, miljöledning och miljökunskap för att kunna driva ett effektivt miljöarbete \nUtbildningen berör\n\nKonsten att arbeta med miljöledning\nMiljöbalken och egenkontroll\nMiljökunskap och vilka praktiska miljöförbättringar som kan genomföras\n\nDet är en öppen utbildning som sker via digital plattform. \nDu anmäler dig genom att trycka på knappen med anmäl dig här\, då kommer du vidare till vårt anmälningsformulär. \nANMÄL DIG HÄR\n 
URL:https://tastegen.se/event/grundkurs-for-miljoansvariga-live-digitalt/
CATEGORIES:Live - digitalt
ATTACH;FMTTYPE=image/png:https://tastegen.se/wp-content/uploads/2022/01/Den-roda-traden-1024-550.png
END:VEVENT
BEGIN:VEVENT
DTSTART;TZID=Europe/Helsinki:20220928T090000
DTEND;TZID=Europe/Helsinki:20220928T120000
DTSTAMP:20260426T063908
CREATED:20220610T095448Z
LAST-MODIFIED:20220610T095448Z
UID:1896-1664355600-1664366400@tastegen.se
SUMMARY:Grundläggande miljökunskap\, live digitalt
DESCRIPTION:Fem steg som gör dig miljöklokare\nUtbildningen är en grundläggande miljöutbildning som ger en översikt över stora miljöproblemen och de möjligheter vi har att göra något åt dem både som privatperson och företag. \nUtbildningen passar bland annat för er som arbetar med Svensk Miljöbas eller ISO 14 001 och har behov att höja miljökompetensen och engagemanget i organisationen. \nUtbildningen är uppdelad i fem steg:\n1. SYSTEMET – hur nationella och globala överenskommelser påverkar dig och ditt arbetet\n2. RUMMET – naturens förutsättningar\, gränser och miljöproblemen i stort.\n3. RESAN – visar förändringar över tid\, positiva såväl som negativa.\n4. PRAKTIKEN – vad du kan göra\, både hemma och på arbetet.\n5. AVSLUTNINGEN – summerar innehållet i utbildningen \nDet är en öppen utbildning som sker via digital plattform. \nDu anmäler dig genom att trycka på knappen med anmäl dig här\, då kommer du vidare till vårt anmälningsformulär. \nANMÄL DIG HÄR
URL:https://tastegen.se/event/grundlaggande-miljokunskap-live-digitalt-2/
CATEGORIES:Live - digitalt
ATTACH;FMTTYPE=image/png:https://tastegen.se/wp-content/uploads/2021/12/Rummet-jordklot-999-623-start.png
END:VEVENT
BEGIN:VEVENT
DTSTART;TZID=Europe/Helsinki:20220907T113000
DTEND;TZID=Europe/Helsinki:20220907T120000
DTSTAMP:20260426T063908
CREATED:20220825T085535Z
LAST-MODIFIED:20220825T085704Z
UID:1975-1662550200-1662552000@tastegen.se
SUMMARY:Webbinar: Nya regler kring matavfall under 2023
DESCRIPTION:Office Recycling anordnar webbinar om de nya reglerna som snart träder i kraft. \nVid slutet av 2023 är det stopp för matrester i papperskorgen! Nya krav införs den 31 december 2023 som påverkar både företag och verksamheter i stor skala. Resterna från lunchen och fikat kommer behövas sorteras ut och samlas in separat. \nMen vad gäller för er som företag? Vilka förberedelser krävs? Vad händer med matavfallet som sorteras ut och vilka lösningar finns att tillgå? \nAllt detta och mer adresserar vi i detta exklusiva webbinar som hålls av Nic Minko och Tobias Rolén från Office Recycling. \nNi anmäler er till webbinariet via Office Recyclings länk \nKlicka här för att komma vidare till anmälningsformuläret.
URL:https://tastegen.se/event/webbinar-nya-regler-kring-matavfall-under-2023/
LOCATION:Digitalt
CATEGORIES:Live - digitalt
END:VEVENT
BEGIN:VEVENT
DTSTART;TZID=Europe/Helsinki:20220601T130000
DTEND;TZID=Europe/Helsinki:20220601T160000
DTSTAMP:20260426T063908
CREATED:20220126T131451Z
LAST-MODIFIED:20220128T113107Z
UID:1425-1654088400-1654099200@tastegen.se
SUMMARY:Hållbarhet i praktiken
DESCRIPTION:Välkommen på en spännande utbildning i praktisk tillämpning av Agenda 2030 och hållbar utveckling! \nStegen bjuder in till en utbildning där vi lotsar deltagarna i begreppen kring Agenda 2030\, hållbar utveckling och hur du praktiskt kan arbeta i det egna företaget eller organisationen. \nUtbildningen varvar teori med praktiska övningar i hur du kan arbeta med hållbarhet i den egna verksamheten. Vi kommer även att få se spännande exempel på hur organisationen Yennenga Progress konkretiserat Agenda 2030 i sin verksamhet. \nDu anmäler dig genom att trycka på knappen med anmäl dig här\, då kommer du vidare till vårt anmälningsformulär. \nANMÄL DIG HÄR\n  \n 
URL:https://tastegen.se/event/hallbarhet-i-praktiken/
CATEGORIES:Live - digitalt
ATTACH;FMTTYPE=image/png:https://tastegen.se/wp-content/uploads/2022/01/Hallbar-utveckling-enkel-1024-550.png
END:VEVENT
BEGIN:VEVENT
DTSTART;TZID=Europe/Helsinki:20220531T100000
DTEND;TZID=Europe/Helsinki:20220605T170000
DTSTAMP:20260426T063908
CREATED:20220531T121514Z
LAST-MODIFIED:20220531T121514Z
UID:1888-1653991200-1654448400@tastegen.se
SUMMARY:We Don`t Have Time\, The STHLM +50 Climate Hub.
DESCRIPTION:Ta del av eventet online\, massor av intressanta föreläsningar och paneldiskussioner kring klimat och miljö med anledning av Stockholm +50.
URL:https://tastegen.se/event/we-dont-have-time-the-sthlm-50-climate-hub/
LOCATION:Digitalt
CATEGORIES:Live - digitalt
ATTACH;FMTTYPE=image/png:https://tastegen.se/wp-content/uploads/2022/05/STHLM-50-Climate-Hub-2022.png
END:VEVENT
BEGIN:VEVENT
DTSTART;TZID=Europe/Helsinki:20220512T130000
DTEND;TZID=Europe/Helsinki:20220512T163000
DTSTAMP:20260426T063908
CREATED:20220329T105050Z
LAST-MODIFIED:20220329T105050Z
UID:1825-1652360400-1652373000@tastegen.se
SUMMARY:Grundkurs – Innehåller dina varor skadliga kemikalier?
DESCRIPTION:Som företag är det ditt ansvar att veta om de produkter du sätter på marknaden innehåller farliga kemikalier. Substitutionscentrums grundkurs är till för dig som vill komma igång och arbeta med kemikalier i dina varor. \n\n\n\n\n\nSom företag är du ansvarig för att veta om de produkter du säljer innehåller farliga kemiska ämnen. Men hur vet du om dina varor innehåller farliga kemikalier? Vilka kemikalier är det egentligen som ska fasas ut?\nPå Substitutionscentrums digitala grundutbildning får du bland annat: \n\nkunskap om hur du tar reda på om du har kemikalier i dina varor som är farliga och bör fasas ut\, substituera.\ninformation om hur kemikalielagstiftningen för varor inom EU är uppbyggd\nverktyg och kunskap för att du ska kunna kontakta dina leverantörer och be om information om kemikalieinnehåll\nverktyg för att systematiskt dokumentera kemikalieinnehåll i dina varor och riskbedöma varor och leverantörer.
URL:https://tastegen.se/event/grundkurs-innehaller-dina-varor-skadliga-kemikalier/
LOCATION:Digitalt
CATEGORIES:Live-digitalt
ATTACH;FMTTYPE=image/jpeg:https://tastegen.se/wp-content/uploads/2022/03/Rise-2.jpg
END:VEVENT
BEGIN:VEVENT
DTSTART;TZID=Europe/Helsinki:20220505T140000
DTEND;TZID=Europe/Helsinki:20220505T150000
DTSTAMP:20260426T063908
CREATED:20220318T064050Z
LAST-MODIFIED:20220318T064050Z
UID:1802-1651759200-1651762800@tastegen.se
SUMMARY:Välkommen på Stegens webbinar om TCO Certified hållbarhetscertifieringen för ICT produkter
DESCRIPTION:Välkommen på Stegens webbinar om TCO Certified hållbarhetscertifieringen för ICT produkter som får dina inköp att driva på utvecklingen i industrin i en hållbar riktning. \nAnnika Overödder berättar om TCO Certified som innehåller omfattande och uppdaterade miljömässiga och sociala hållbarhetskrav\, oberoende verifiering och ett strukturerat system för kontinuerlig förbättring som driver verklig och varaktig förändring.\nKrav som ställs på TCO Certified i upphandling ger direkt påverkan på tillverkarna att förbättra arbetsförhållanden i tillverkningen\, hantera farliga ämnen och minska klimatpåverkan från både produkter och tillverkning. \nI TCO Certified Product Finder finns 3500 certifierade produkter från 26 varumärken i 11 produktkategorier: bildskärmar\, notebooks\, tablets\, smartphones\, stationära datorer\, allt-i-ett-datorer\, projektorer\, headset\, nätverksutrustning\, datalagringsprodukter och servrar. \nAnmäl er till Annika Johansson \nE-post: annika.johansson@tastegen.se
URL:https://tastegen.se/event/valkommen-pa-stegens-webbinar-om-tco-certified-hallbarhetscertifieringen-for-ict-produkter/
LOCATION:Digitalt
CATEGORIES:Live - digitalt
ATTACH;FMTTYPE=image/png:https://tastegen.se/wp-content/uploads/2022/03/logo-webb-large-tco.png
END:VEVENT
BEGIN:VEVENT
DTSTART;TZID=Europe/Helsinki:20220429T090000
DTEND;TZID=Europe/Helsinki:20220429T120000
DTSTAMP:20260426T063908
CREATED:20211202T145452Z
LAST-MODIFIED:20220214T144715Z
UID:352-1651222800-1651233600@tastegen.se
SUMMARY:Grundläggande miljökunskap\, live digitalt
DESCRIPTION:Fem steg som gör dig miljöklokare\nUtbildningen är en grundläggande miljöutbildning som ger en översikt över stora miljöproblemen och de möjligheter vi har att göra något åt dem både som privatperson och företag. \nUtbildningen passar bland annat för er som arbetar med Svensk Miljöbas eller ISO 14 001 och har behov att höja miljökompetensen och engagemanget i organisationen. \nUtbildningen är uppdelad i fem steg:\n1. SYSTEMET – hur nationella och globala överenskommelser påverkar dig och ditt arbetet\n2. RUMMET – naturens förutsättningar\, gränser och miljöproblemen i stort.\n3. RESAN – visar förändringar över tid\, positiva såväl som negativa.\n4. PRAKTIKEN – vad du kan göra\, både hemma och på arbetet.\n5. AVSLUTNINGEN – summerar innehållet i utbildningen \nDet är en öppen utbildning som sker via digital plattform. \nDu anmäler dig genom att trycka på knappen med anmäl dig här\, då kommer du vidare till vårt anmälningsformulär. \nANMÄL DIG HÄR
URL:https://tastegen.se/event/event-2/
CATEGORIES:Live - digitalt
ATTACH;FMTTYPE=image/png:https://tastegen.se/wp-content/uploads/2021/12/Rummet-jordklot-999-623-start.png
END:VEVENT
BEGIN:VEVENT
DTSTART;TZID=Europe/Helsinki:20220426T130000
DTEND;TZID=Europe/Helsinki:20220426T163000
DTSTAMP:20260426T063908
CREATED:20220209T104055Z
LAST-MODIFIED:20220329T101001Z
UID:1734-1650978000-1650990600@tastegen.se
SUMMARY:SMHI bjuder in till - Grundkurs i klimatanpassning i april
DESCRIPTION:Arbetar du med klimatanpassning eller står du i startgroparna för denna viktiga uppgift? Då är du välkommen att delta på SMHIs Grundkurs i klimatanpassning den 26-27 april 2022. Kursen sker online. \n\n\n\n\n\nKursen ger dig grundläggande kunskaper kring klimatförändringar och vilka effekter vi känner till idag. Du får med dig flera konkreta tips på hur du kan arbeta med klimatanpassning och vilka hjälpmedel som finns. \nUnder två halvdagar\, delar SMHIs experter tillsammans med inbjudna representanter från andra myndigheter med sig av sina kunskaper. I programmet finns även exempel på hur olika kommuner arbetar med klimatanpassning. Innehållet riktar sig främst till dig som arbetar inom en kommun\, länsstyrelse\, myndighet eller region\, men är i hög grad även användbart för andra verksamheter. \n\nArrangör är SMHI och ni anmäler er via deras hemsida. \n\nLänk till SMHI:s hemsida
URL:https://tastegen.se/event/smhi-bjuder-in-till-grundkurs-i-klimatanpassning-varen/
CATEGORIES:Live - digitalt
END:VEVENT
BEGIN:VEVENT
DTSTART;TZID=Europe/Helsinki:20220225T090000
DTEND;TZID=Europe/Helsinki:20220225T120000
DTSTAMP:20260426T063908
CREATED:20220127T132315Z
LAST-MODIFIED:20220128T112038Z
UID:1499-1645779600-1645790400@tastegen.se
SUMMARY:Grundläggande miljökunskap\, live digitalt
DESCRIPTION:Fem steg som gör dig miljöklokare\nUtbildningen är en grundläggande miljöutbildning som ger en översikt över stora miljöproblemen och de möjligheter vi har att göra något åt dem både som privatperson och företag. \nUtbildningen passar bland annat för er som arbetar med Svensk Miljöbas eller ISO 14 001 och har behov att höja miljökompetensen och engagemanget i organisationen. \nUtbildningen är uppdelad i fem steg:\n1. SYSTEMET – hur nationella och globala överenskommelser påverkar dig och ditt arbetet\n2. RUMMET – naturens förutsättningar\, gränser och miljöproblemen i stort.\n3. RESAN – visar förändringar över tid\, positiva såväl som negativa.\n4. PRAKTIKEN – vad du kan göra\, både hemma och på arbetet.\n5. AVSLUTNINGEN – summerar innehållet i utbildningen \nDet är en öppen utbildning som sker via digital plattform. \nDu anmäler dig genom att trycka på knappen med anmäl dig här\, då kommer du vidare till vårt anmälningsformulär. \nANMÄL DIG HÄR
URL:https://tastegen.se/event/grundlaggande-miljokunskap-live-digitalt/
CATEGORIES:Live-digitalt
ATTACH;FMTTYPE=image/png:https://tastegen.se/wp-content/uploads/2021/12/Rummet-jordklot-722-500-v2.png
END:VEVENT
END:VCALENDAR